BEGIN:VCALENDAR
VERSION:2.0
PRODID:-//Meetup//Meetup Calendar 1.0//EN
CALSCALE:GREGORIAN
METHOD:PUBLISH
NAME:Cambridge City Green MeetUp
X-WR-CALNAME:Cambridge City Green MeetUp
BEGIN:VTIMEZONE
TZID:America/Toronto
TZURL:http://tzurl.org/zoneinfo-outlook/America/Toronto
X-LIC-LOCATION:America/Toronto
BEGIN:DAYLIGHT
TZOFFSETFROM:-0500
TZOFFSETTO:-0400
TZNAME:EDT
DTSTART:19700308T020000
RRULE:FREQ=YEARLY;BYMONTH=3;BYDAY=2SU
END:DAYLIGHT
BEGIN:STANDARD
TZOFFSETFROM:-0400
TZOFFSETTO:-0500
TZNAME:EST
DTSTART:19701101T020000
RRULE:FREQ=YEARLY;BYMONTH=11;BYDAY=1SU
END:STANDARD
END:VTIMEZONE
BEGIN:VEVENT
UID:event_314218793@meetup.com
SEQUENCE:1
DTSTAMP:20260423T071627Z
DTSTART;TZID=America/Toronto:20260424T000000
DTEND;TZID=America/Toronto:20260427T120000
SUMMARY:City Nature Challenge
DESCRIPTION:Cambridge City Green MeetUp\n**Join people in 600 cities aroun
 d the world taking pictures of nature through the City Nature Challenge!**
 \n\nCheck out the [Cambridge City Nature Challenge site](https://www.inatu
 ralist.org/projects/city-nature-challenge-2026-cambridge-ontario-canada-ob
 servations) for more info\n\nIt's easy...\n\n1. download the iNaturalist a
 pp\n2. find interesting plants\, animals\, birds\, insects\, trees\, etc. 
 and take a picture (as long as it's "wild"\, sorry\, no pets\, street tree
 s\, garden plants\, or little brothers....)\n3. the app will help you iden
 tify your photo observation\n4. upload it and see how many more observatio
 ns you can make\n\nYou can visit one of the many Cambridge trails\, parks\
 , or natural areas or join the Cambridge City Green volunteers on April 25
 th at 2:30pm - 4pm at Victoria Park (meet in the playground parking lot ac
 ross from 105 Salisbury and then we'll take off through the forest trails.
  CANCELLED IF RAINING.\n\nHere are some suggestions for natural areas arou
 nd Cambridge where you could make observations:\n\nPreston:\n\n* Riverside
  Park\n* confluence of Grand and Speed Rivers / Linear Park\n\nHespeler:\n
 \n* Hespeler Mill Pond\, osprey platform\n* Mill Pond subdivision ponds\n*
  Mill Run Trail\n* Hespeler Woodlot\n\nWest Galt:\n\n* Victoria Park (Galt
 )\n* Devil's Creek Natural Area\n* Willard Park forest\n* Riverbluffs Park
  (Cambridge Pollinator Preserve)\n\nEast Galt:\n\n* Franklin Pond\n* Dunca
 n Ferguson Homestead park\n* Portuguese Swamp / Hillborn Knoll Region fore
 st\n* Lumb Dr. Wetland (stormwater pond)\n* Churchill Park\n\nBlair:\n\n* 
 Moyer's Landing / Fountain St. Soccer Complex\n\nCentral:\n\n* Dumfries Co
 nservation Area
URL;VALUE=URI:https://www.meetup.com/cambridge-city-green/events/314218793
 /
STATUS:CONFIRMED
CREATED:20260410T190026Z
LAST-MODIFIED:20260410T190026Z
CLASS:PUBLIC
END:VEVENT
BEGIN:VEVENT
UID:event_314266472@meetup.com
SEQUENCE:1
DTSTAMP:20260423T071627Z
DTSTART;TZID=America/Toronto:20260425T093000
DTEND;TZID=America/Toronto:20260425T120000
SUMMARY:Cambridge Community Clean Up
DESCRIPTION:Cambridge City Green MeetUp\n**Cambridge Community Clean Up**\
 nJoin us rain or shine!\n\n**Pick up supplies at these Cambridge Public Li
 brary locations:**\n• Queen’s Square – 1 N. Square\n• Clemens Mill
  – 50 Saginaw Pkwy (inside St. Benedict Catholic SS)\n• Hespeler – 5
  Tannery St. E.\n• Preston – 435 King St. E.\n\n**Large group (10+ peo
 ple)?**\nContact **litter@cambridge.ca** at least 3 days in advance of you
 r event to pick up your supplies for your group.\n\n**Litter Bag Pick-Up**
 \nPlease only use red litter bags\, other types will not be picked up. Ema
 il servicecambridge@cambridge.ca to let the City know where you’ve left 
 your bags.\n\n**Make sure you place your bags ONLY on:**\n• City propert
 y\,\n• by a City garbage can or\,\n• at a park entrance and visible fr
 om the road.\n\n**DO NOT leave bags:**\n• scattered down trails\,\n• i
 n the middle of a park\,\n• with your household garbage or\,\n• on pri
 vate property.\n\n**Want your supplies earlier?**\nSupplies will be availa
 ble at Cambridge Public Library counters during regular hours prior to Apr
 il 25th\n\n**Questions?**\n**email: litter@Cambridge.ca**\n\n***...please 
 note\, due to an overwhelming demand and twice as many people this year as
  previous years we have extremely limited quantities of pickers.***
URL;VALUE=URI:https://www.meetup.com/cambridge-city-green/events/314266472
 /
STATUS:CONFIRMED
CREATED:20260413T174559Z
LAST-MODIFIED:20260413T174559Z
CLASS:PUBLIC
END:VEVENT
BEGIN:VEVENT
UID:event_314381411@meetup.com
SEQUENCE:1
DTSTAMP:20260423T071627Z
DTSTART;TZID=America/Toronto:20260427T200000
DTEND;TZID=America/Toronto:20260427T213000
SUMMARY:Challenges with Urbanization and Aquatic Environments
DESCRIPTION:Cambridge City Green MeetUp\nWRN Hybrid Meeting - April 27\, 2
 026\nMeeting starts 7:30 pm\, presenters on shortly after 8:00 pm\n**To at
 tend via Zoom\, please register at: [https://us02web.zoom.us/meeting/regis
 ter/Q6N8zgfoTbCG21YrmWz-oQ](https://urldefense.com/v3/__https:/ml.waterloo
 regionnature.ca/link/c/YT0yOTkxNTQyMjUxNzMxMDMxODMyJmM9cjdtMiZlPTE5MjgmYj0
 xNTM1MTEzNzY1JmQ9dzZpMXM0YQ==.5hMqZNaVLPRjZdoORCCvlUC1d7Ke0ratgk2eW8Uc1do_
 _\;!!ECJmQIuuLqA!AabqmDwg0LhqxTKe8365BvjsacfPHQS2nZplV8qBdeke01rLmP_7n80oc
 m_vZk_3KbqC6z6tYXRLZLwsgDcHlBti$)**\nAfter registering\, you will receive 
 a confirmation email containing information about joining the meeting.\n\n
 Please join **Jack Imhof** as he speaks about how urbanization changes the
  water cycle of the landscape\, the implications for ecological and physic
 al processes\, and how our management of water resources tends to minimize
  water resource protection\, resulting in degraded environments. He will a
 lso touch on how stormwater management and development planning processes 
 risk contributing to degrading these resources.\n\nJack specializes in res
 toration ecology\, watershed science and management and natural channel de
 sign\, and has spent over 50 years working on river and watershed restorat
 ion. During that time Jack has also been an active fly fisher and has fish
 ed across Canada and the USA as well as England\, Australia\, and Argentin
 a. His work has won him multiple awards for his ongoing efforts to improve
  the health and quality of Canada’s watersheds\, including the Conservat
 ion Pioneer Award at the 19th Annual A.D. Latornell Symposium (2012)\, and
  the title of Legend in Fisheries and Aquatic Sciences by the Canadian Aqu
 atic Resources Section of the American Fisheries Society (2022). Since ret
 iring in 2017 as the National Biologist and Director of Conservation Ecolo
 gy for Trout Unlimited Canada (now Freshwater Conservation Canada)\, he ha
 s been developing and teaching the Watershed and Stream Rehabilitation Tra
 ining Program of FCC/TUC. During his working career he was a provincial Aq
 uatic Ecologist and Watershed Research Scientist with the Ministry of Natu
 ral Resources and Forestry\, and an adjunct professor at University of Gue
 lph\, University of Waterloo\, Brock University and Trent University. In r
 etirement he sits on advisory boards and continues to provide policy and s
 cience advice to various NGOs and municipalities.\n\nThis will be a **hybr
 id meeting** and you can choose to attend either in-person or via Zoom. Al
 l are welcome to attend. Attending in-person requires no registration ahea
 d of time. If attending via zoom\, please note that the presenter is gener
 ally not on 'till 8 PM or shortly thereafter.\n\n**To attend via Zoom\, pl
 ease register at: [https://us02web.zoom.us/meeting/register/Q6N8zgfoTbCG21
 YrmWz-oQ](https://urldefense.com/v3/__https:/ml.waterlooregionnature.ca/li
 nk/c/YT0yOTkxNTQyMjUxNzMxMDMxODMyJmM9cjdtMiZlPTE5MjgmYj0xNTM1MTEzNzY1JmQ9d
 zZpMXM0YQ==.5hMqZNaVLPRjZdoORCCvlUC1d7Ke0ratgk2eW8Uc1do__\;!!ECJmQIuuLqA!A
 abqmDwg0LhqxTKe8365BvjsacfPHQS2nZplV8qBdeke01rLmP_7n80ocm_vZk_3KbqC6z6tYXR
 LZLwsgDcHlBti$)**\n\nAfter registering\, you will receive a confirmation e
 mail containing information about joining the meeting.\n\nIn Person: Doors
  open at 7pm at **Knox Presbyterian Church Hall**\n**50 Erb Street West\, 
 Waterloo\, Ontario**.\n\n**Public Transit:** There are **ION LRT** station
 s nearby at Waterloo Public Square and at Willis Way. The **route 5** bus 
 stops on Erb Street West between Father David Bauer Drive and Caroline Str
 eet. The **route 7** and **route 16** buses stop on King Street near the W
 aterloo Public Square station.\n\n**PARKING:**\nAll Parking is Free\nMarsl
 and Centre is free after 6 pm\nDupont Lot D is free after 5:30 pm\nAs a co
 urtesy to library users\, please do not use the lot located underneath the
  library building.\n\n**CYCLING:**\nBicycles are welcome. The church recom
 mends bringing your bicycle inside for safe keeping.\nWe look forward to s
 eeing you - either in person or online.
URL;VALUE=URI:https://www.meetup.com/cambridge-city-green/events/314381411
 /
STATUS:CONFIRMED
CREATED:20260420T142953Z
LAST-MODIFIED:20260420T142953Z
CLASS:PUBLIC
END:VEVENT
BEGIN:VEVENT
UID:event_314319470@meetup.com
SEQUENCE:1
DTSTAMP:20260423T071627Z
DTSTART;TZID=America/Toronto:20260523T080000
DTEND;TZID=America/Toronto:20260523T130000
SUMMARY:Bloom in Box
DESCRIPTION:Cambridge City Green MeetUp\n**Reep Green Solutions Bloom in B
 ox**\n\n## Pre-order your plants now!\n\nOrder your native plant kits **NO
 W** (before they're gone and before May 15th) for pickup on **Saturday\, M
 ay 23** from **8 a.m. to 1 p.m.** at **[Cambridge Farmer's Market](https:/
 /maps.app.goo.gl/bLZAwr6Mq9pHo5SV8)**.\n\nFour Bloom in Boxes to choose fr
 om: **Shade**\, **Balcony\, Sun\, Rain Garden**\n\nNative flowering plants
  are a great way to add beauty and interest to your garden\, while offerin
 g birds and pollinators valuable sources of food and habitat throughout th
 e year.\n\nThere are four types of Bloom[in] Boxes available for purchase\
 , each suited to full sun\, part-shade\, or rain gardens with a new additi
 on this year suited for container growing. Each Bloom[in] Box is designed 
 with a complementary selection of native plants that will attract birds\, 
 bees\, and butterflies to your yard throughout the growing season. Each ki
 t is designed to cover an area of approximately 2 square meters apart from
  the Bloom[on the balcony] Box.\nDon’t have enough space for a typical g
 arden? We are excited to debut our new Bloom[on the balcony] Box that is s
 uitable for smaller gardens\, temporary rentals or creating a native plant
  oasis on your balcony.\n\nFor more information\, be sure to look at the b
 io for each kit to determine which one is best suited for your space and g
 rowing conditions.\n\n**MORE INFO ON WHAT'S INCLUDED IN EACH BOX\, PRICES\
 , ETC. AT the [Reep Green Solutions Bloom in Box pages](https://reepgreen.
 square.site/?mc_cid=c0d804915e&mc_eid=53c4504dc5)**
URL;VALUE=URI:https://www.meetup.com/cambridge-city-green/events/314319470
 /
STATUS:CONFIRMED
CREATED:20260416T181404Z
LAST-MODIFIED:20260416T181404Z
CLASS:PUBLIC
END:VEVENT
X-ORIGINAL-URL:https://www.meetup.com/cambridge-city-green/events/ical/
X-WR-CALNAME:Cambridge City Green MeetUp
END:VCALENDAR