BEGIN:VCALENDAR
VERSION:2.0
PRODID:-//Meetup//Meetup Calendar 1.0//EN
CALSCALE:GREGORIAN
METHOD:PUBLISH
NAME:Charleston Align with Your Soul's Purpose
X-WR-CALNAME:Charleston Align with Your Soul's Purpose
BEGIN:VTIMEZONE
TZID:America/New_York
TZURL:http://tzurl.org/zoneinfo-outlook/America/New_York
X-LIC-LOCATION:America/New_York
BEGIN:DAYLIGHT
TZOFFSETFROM:-0500
TZOFFSETTO:-0400
TZNAME:EDT
DTSTART:19700308T020000
RRULE:FREQ=YEARLY;BYMONTH=3;BYDAY=2SU
END:DAYLIGHT
BEGIN:STANDARD
TZOFFSETFROM:-0400
TZOFFSETTO:-0500
TZNAME:EST
DTSTART:19701101T020000
RRULE:FREQ=YEARLY;BYMONTH=11;BYDAY=1SU
END:STANDARD
END:VTIMEZONE
BEGIN:VEVENT
UID:event_314381715@meetup.com
SEQUENCE:1
DTSTAMP:20260425T005927Z
DTSTART;TZID=America/New_York:20260427T191500
DTEND;TZID=America/New_York:20260427T203000
SUMMARY:Understanding Your Soul’s Intelligence
DESCRIPTION:Charleston Align with Your Soul's Purpose\nUnderstanding Your 
 Soul’s Intelligence\n\nCan you distinguish between your soul’s intelli
 gence and mental knowledge?\n\nMany things are playing out on Earth right 
 now as everything and everyone is shifting during this massive ascension c
 ycle.\n\nThis ascension cycle is designed to awaken human consciousness an
 d activate spiritual assets\, skills and gifts that all humans brought to 
 Earth to utilize in this higher cycle which leads to personal empowerment.
 \n\nPersonal empowerment is easier when we are aligned mind\, body\, and s
 oul. Your soul is already awake. Your soul created a plan for your experie
 nce here on Earth and holds the information to easily moved through this c
 ycle of higher consciousness.\n\nDr. Wendy will share a practical approach
  to listening and understanding your soul’s intelligence. She will share
  how to develop a new level of trust with the guidance your soul presents 
 daily and techniques that will help you stay aligned mind\, body and soul.
 \n\nhttps://us06web.zoom.us/j/84823421910\n\nMeeting ID: 848 2342 1910\n\n
 Mobile information:\n\n84823421910 Meeting ID: 848 2342 1910
URL;VALUE=URI:https://www.meetup.com/charleston-master-alignment-with-your
 -souls-purpose/events/314381715/
STATUS:CONFIRMED
CREATED:20260420T145157Z
LAST-MODIFIED:20260420T145157Z
CLASS:PUBLIC
END:VEVENT
X-ORIGINAL-URL:https://www.meetup.com/Charleston-Master-Alignment-with-You
 r-Souls-Purpose/events/ical/
X-WR-CALNAME:Charleston Align with Your Soul's Purpose
END:VCALENDAR