BEGIN:VCALENDAR
VERSION:2.0
PRODID:-//Meetup//Meetup Calendar 1.0//EN
CALSCALE:GREGORIAN
METHOD:PUBLISH
NAME:PHP Rio
X-WR-CALNAME:PHP Rio
BEGIN:VTIMEZONE
TZID:America/Sao_Paulo
TZURL:http://tzurl.org/zoneinfo-outlook/America/Sao_Paulo
X-LIC-LOCATION:America/Sao_Paulo
BEGIN:DAYLIGHT
TZOFFSETFROM:-0300
TZOFFSETTO:-0200
TZNAME:-02
DTSTART:19701101T000000
RRULE:FREQ=YEARLY;BYMONTH=11;BYDAY=1SU
END:DAYLIGHT
BEGIN:STANDARD
TZOFFSETFROM:-0300
TZOFFSETTO:-0300
TZNAME:-03
DTSTART:19700215T000000
RRULE:FREQ=YEARLY;BYMONTH=2;BYDAY=3SU
END:STANDARD
END:VTIMEZONE
BEGIN:VEVENT
UID:event_314148388@meetup.com
SEQUENCE:1
DTSTAMP:20260423T030409Z
DTSTART;TZID=America/Sao_Paulo:20260430T190000
DTEND;TZID=America/Sao_Paulo:20260430T220000
SUMMARY:Meetup PHPRio
DESCRIPTION:PHP Rio\nA comunidade PHP do Rio está mais viva do que nunca 
 e você está convidado.\nNo dia **30 de abril\, às 19h**\, a PHPRio real
 iza mais um encontro presencial\, reunindo desenvolvedores\, estudantes e 
 profissionais da área para uma noite de **conteúdo técnico\, networking
  e troca de experiências**.\n\n**Agenda do dia**\n19:00 - Recepção\n19:
 10 - Apresentação da comunidade\n19:20 - Palestra 1: **Introdução a Re
 des para Programadores Web** por **Vinicius Dias -** O que todo programado
 r web precisa saber sobre redes\nToda pessoa que desenvolve software para 
 a web utiliza conceitos de redes o tempo todo\, mas pouca gente realmente 
 entende o que acontece entre o navegador e o servidor. A ideia aqui é jus
 tamente preencher essa lacuna: explicar o básico de redes de um jeito cla
 ro\, prático e voltado a quem escreve código.\n\n20:10 - Coffee Break\n2
 0:40 - Palestra 2 - **(divulgaremos em breve)**\n\n21:20 - Encerramento\n\
 n**O que esperar do evento?**\n\n* Palestras técnicas com foco prático\n
 * Networking com devs da comunidade\n* Oportunidade de conhecer empresas e
  profissionais da área\n* Ambiente acolhedor para todos os níveis (júni
 or ao sênior)\n* Coffee break para fortalecer as conexões\n\nEstamos fin
 alizando a grade de palestras e os nomes serão divulgados em breve 👀\n
 \n**Para quem é esse evento?**\n\n* Desenvolvedores PHP\n* Backend develo
 pers\n* Estudantes de tecnologia\n* Pessoas que querem entrar na área\n* 
 Profissionais interessados em comunidade e networking\n\nSe você trabalha
  com PHP ou quer começar\, esse evento é para você.\n\n**Participe da c
 omunidade**\nEntre também no nosso grupo do Telegram para continuar a con
 versa:\n**[CLIQUE AQUI](t.me/phprio)**\n\n**Informações importantes**\n\
 n* Evento gratuito\n* Vagas limitadas\n* Necessário se inscrever pelo Mee
 tup\n* Chegue com antecedência\n\n**Quer palestrar nos próximos meetups?
 **\n\nA PHPRio está sempre aberta a novas vozes da comunidade.\n[Submeta 
 sua palestra aqui](https://github.com/phprio/cfp)\n\nNos vemos dia **30/04
  às 19h**.\nConfirme sua presença e convide outros devs do Rio 🚀
URL;VALUE=URI:https://www.meetup.com/php-rio/events/314148388/
STATUS:CONFIRMED
CREATED:20260406T150123Z
LAST-MODIFIED:20260406T150123Z
CLASS:PUBLIC
END:VEVENT
X-ORIGINAL-URL:https://www.meetup.com/php-rio/events/ical/
X-WR-CALNAME:PHP Rio
END:VCALENDAR