BEGIN:VCALENDAR
VERSION:2.0
PRODID:-//Meetup//Meetup Calendar 1.0//EN
CALSCALE:GREGORIAN
METHOD:PUBLISH
NAME:AI for Business Operators
X-WR-CALNAME:AI for Business Operators
BEGIN:VTIMEZONE
TZID:America/Los_Angeles
TZURL:http://tzurl.org/zoneinfo-outlook/America/Los_Angeles
X-LIC-LOCATION:America/Los_Angeles
BEGIN:DAYLIGHT
TZOFFSETFROM:-0800
TZOFFSETTO:-0700
TZNAME:PDT
DTSTART:19700308T020000
RRULE:FREQ=YEARLY;BYMONTH=3;BYDAY=2SU
END:DAYLIGHT
BEGIN:STANDARD
TZOFFSETFROM:-0700
TZOFFSETTO:-0800
TZNAME:PST
DTSTART:19701101T020000
RRULE:FREQ=YEARLY;BYMONTH=11;BYDAY=1SU
END:STANDARD
END:VTIMEZONE
BEGIN:VEVENT
UID:event_313603366@meetup.com
SEQUENCE:1
DTSTAMP:20260421T220740Z
DTSTART;TZID=America/Los_Angeles:20260421T190000
DTEND;TZID=America/Los_Angeles:20260421T203000
SUMMARY:AI for Business Operators: Bring Your Problems
DESCRIPTION:AI for Business Operators\nBring the thing that's been bugging
  you. We'll dig into it.\n\nOur regular biweekly session where business ow
 ners sit down\, talk about what's not running well\, and we work through p
 ractical solutions together in real time.\n\nNo agenda — the room decide
 s what we talk about. Someone's team is buried in manual data entry\, we d
 ig into it. Someone's got a client onboarding process held together with s
 ticky notes and hope\, we sketch out something better. I work through appr
 oaches on the spot what I'd build\, what it would take\, and whether it's 
 worth doing. The group pokes holes. You leave with a clearer picture of wh
 at's possible.\n\n7:00 - Show up\, settle in\n7:15 - Quick intros\, what b
 rought you tonight\n7:30 - We dig in\n8:30 - Wind down\n\nGot something sp
 ecific? Drop it in your RSVP and I'll be thinking about it before you walk
  in.
URL;VALUE=URI:https://www.meetup.com/ai-for-business-operators/events/3136
 03366/
STATUS:CONFIRMED
CREATED:20260302T161524Z
LAST-MODIFIED:20260302T161524Z
CLASS:PUBLIC
END:VEVENT
X-ORIGINAL-URL:https://www.meetup.com/ai-for-business-operators/events/ica
 l/
X-WR-CALNAME:AI for Business Operators
END:VCALENDAR