BEGIN:VCALENDAR
VERSION:2.0
PRODID:-//Meetup//Meetup Calendar 1.0//EN
CALSCALE:GREGORIAN
METHOD:PUBLISH
NAME:AI Safety Awareness Group Portland
X-WR-CALNAME:AI Safety Awareness Group Portland
BEGIN:VTIMEZONE
TZID:America/Los_Angeles
TZURL:http://tzurl.org/zoneinfo-outlook/America/Los_Angeles
X-LIC-LOCATION:America/Los_Angeles
BEGIN:DAYLIGHT
TZOFFSETFROM:-0800
TZOFFSETTO:-0700
TZNAME:PDT
DTSTART:19700308T020000
RRULE:FREQ=YEARLY;BYMONTH=3;BYDAY=2SU
END:DAYLIGHT
BEGIN:STANDARD
TZOFFSETFROM:-0700
TZOFFSETTO:-0800
TZNAME:PST
DTSTART:19701101T020000
RRULE:FREQ=YEARLY;BYMONTH=11;BYDAY=1SU
END:STANDARD
END:VTIMEZONE
BEGIN:VEVENT
UID:event_314321713@meetup.com
SEQUENCE:1
DTSTAMP:20260420T234630Z
DTSTART;TZID=America/Los_Angeles:20260513T170000
DTEND;TZID=America/Los_Angeles:20260513T183000
SUMMARY:Where is AI in 2026 and Where is it Going?
DESCRIPTION:AI Safety Awareness Group Portland\n**A free\, public workshop
 —no technical background needed**\n​​​​​​​​In just a few
  years\, AI has advanced at a pace that stunned even leading experts. Thes
 e systems aren’t science fiction anymore—they’re reshaping work\, re
 lationships\, and even crime in real time.\n​​​​​​​​This w
 orkshop explores where AI may be in the next 1–5 years and what that mea
 ns for your daily life. Together\, we’ll tackle urgent questions like:\n
 \n* ​​​​​​​​**Jobs**: Could AI lead to mass unemployment
 —or entirely new kinds of work?\n* ​​​​​​​​**Crime**: Ho
 w might AI supercharge scams\, hacking\, and even physical crime?\n* ​
 ​​​​​​​**Companions**: Will people form deep emotional bonds
 —or even romantic relationships—with AI assistants?\n* ​​​​​
 ​​​**Society**: How do top researchers think these trends will shape
  our future?\n\n​​​​​​​​**What you’ll get:**\n\n* ​​
 ​​​​​​A fast-paced\, beginner-friendly overview of today’s m
 ost powerful AI systems\n* ​​​​​​​​Live demos that reveal 
 both the breakthroughs and the risks\n* ​​​​​​​​An interac
 tive forecasting exercise where you’ll test your own predictions about A
 I’s impact\n\n​​​​​​​​Come ready to explore a future arr
 iving faster than most people realize—one that could transform not just 
 how we work\, but how we trust and connect.
URL;VALUE=URI:https://www.meetup.com/ai-safety-awareness-group-portland/ev
 ents/314321713/
STATUS:CONFIRMED
CREATED:20260416T202943Z
LAST-MODIFIED:20260416T202943Z
CLASS:PUBLIC
END:VEVENT
BEGIN:VEVENT
UID:event_314385084@meetup.com
SEQUENCE:1
DTSTAMP:20260420T234630Z
DTSTART;TZID=America/Los_Angeles:20260513T170000
DTEND;TZID=America/Los_Angeles:20260513T183000
SUMMARY:Where is AI in 2026 and Where is it Going?
DESCRIPTION:AI Safety Awareness Group Portland\n**A free\, public workshop
 —no technical background needed**\n​​​​​​​​In just a few
  years\, AI has advanced at a pace that stunned even leading experts. Thes
 e systems aren’t science fiction anymore—they’re reshaping work\, re
 lationships\, and even crime in real time.\n​​​​​​​​This w
 orkshop explores where AI may be in the next 1–5 years and what that mea
 ns for your daily life. Together\, we’ll tackle urgent questions like:\n
 \n* ​​​​​​​​**Jobs**: Could AI lead to mass unemployment
 —or entirely new kinds of work?\n* ​​​​​​​​**Crime**: Ho
 w might AI supercharge scams\, hacking\, and even physical crime?\n* ​
 ​​​​​​​**Companions**: Will people form deep emotional bonds
 —or even romantic relationships—with AI assistants?\n* ​​​​​
 ​​​**Society**: How do top researchers think these trends will shape
  our future?\n\n​​​​​​​​**What you’ll get:**\n\n* ​​
 ​​​​​​A fast-paced\, beginner-friendly overview of today’s m
 ost powerful AI systems\n* ​​​​​​​​Live demos that reveal 
 both the breakthroughs and the risks\n* ​​​​​​​​An interac
 tive forecasting exercise where you’ll test your own predictions about A
 I’s impact\n\n​​​​​​​​Come ready to explore a future arr
 iving faster than most people realize—one that could transform not just 
 how we work\, but how we trust and connect.
URL;VALUE=URI:https://www.meetup.com/ai-safety-awareness-group-portland/ev
 ents/314385084/
STATUS:CONFIRMED
CREATED:20260420T173640Z
LAST-MODIFIED:20260420T173640Z
CLASS:PUBLIC
END:VEVENT
X-ORIGINAL-URL:https://www.meetup.com/ai-safety-awareness-group-portland/e
 vents/ical/
X-WR-CALNAME:AI Safety Awareness Group Portland
END:VCALENDAR