BEGIN:VCALENDAR
VERSION:2.0
PRODID:-//Meetup//Meetup Calendar 1.0//EN
CALSCALE:GREGORIAN
METHOD:PUBLISH
NAME:HacDC
X-WR-CALNAME:HacDC
BEGIN:VTIMEZONE
TZID:America/New_York
TZURL:http://tzurl.org/zoneinfo-outlook/America/New_York
X-LIC-LOCATION:America/New_York
BEGIN:DAYLIGHT
TZOFFSETFROM:-0500
TZOFFSETTO:-0400
TZNAME:EDT
DTSTART:19700308T020000
RRULE:FREQ=YEARLY;BYMONTH=3;BYDAY=2SU
END:DAYLIGHT
BEGIN:STANDARD
TZOFFSETFROM:-0400
TZOFFSETTO:-0500
TZNAME:EST
DTSTART:19701101T020000
RRULE:FREQ=YEARLY;BYMONTH=11;BYDAY=1SU
END:STANDARD
END:VTIMEZONE
BEGIN:VEVENT
UID:event_314342838@meetup.com
SEQUENCE:1
DTSTAMP:20260422T105010Z
DTSTART;TZID=America/New_York:20260423T190000
DTEND;TZID=America/New_York:20260423T210000
SUMMARY:Hardware Hacking Night
DESCRIPTION:HacDC\nWant to mess with some electronics? Or perhaps contribu
 te to HacDC's main group project?\nHacDC's latest event brings hardware pr
 ojects to the community. We will focus primarily on the main project (Spac
 e Blimp!) but please feel free to bring some of your own projects to show 
 off and work on!
URL;VALUE=URI:https://www.meetup.com/hac-dc/events/314342838/
STATUS:CONFIRMED
CREATED:20260418T003505Z
LAST-MODIFIED:20260418T003505Z
CLASS:PUBLIC
END:VEVENT
BEGIN:VEVENT
UID:event_314409171@meetup.com
SEQUENCE:1
DTSTAMP:20260422T105010Z
DTSTART;TZID=America/New_York:20260427T190000
DTEND;TZID=America/New_York:20260427T210000
SUMMARY:Open Hac
DESCRIPTION:HacDC\nWelcome to our new home at the historic Tivoli Theater!
 \n\nPlease check our details for access to the space on [our website](http
 s://www.hacdc.org/visit/).\n\nJoin the discord for questions / help gettin
 g in (use channel #let-me-in) [https://discord.gg/dNjuNhNmeT](https://disc
 ord.gg/dNjuNhNmeT)
URL;VALUE=URI:https://www.meetup.com/hac-dc/events/314409171/
STATUS:CONFIRMED
CREATED:20260422T003712Z
LAST-MODIFIED:20260422T003712Z
CLASS:PUBLIC
END:VEVENT
BEGIN:VEVENT
UID:event_szjzwtyjcgbnc@meetup.com
SEQUENCE:1
DTSTAMP:20260422T105010Z
DTSTART;TZID=America/New_York:20260430T190000
DTEND;TZID=America/New_York:20260430T210000
SUMMARY:Hardware Hacking Night
DESCRIPTION:HacDC\nWant to mess with some electronics? Or perhaps contribu
 te to HacDC's main group project?\nHacDC's latest event brings hardware pr
 ojects to the community. We will focus primarily on the main project (Spac
 e Blimp!) but please feel free to bring some of your own projects to show 
 off and work on!
URL;VALUE=URI:https://www.meetup.com/hac-dc/events/szjzwtyjcgbnc/
STATUS:CONFIRMED
CREATED:20260414T001244Z
LAST-MODIFIED:20260414T001244Z
CLASS:PUBLIC
END:VEVENT
BEGIN:VEVENT
UID:event_314287227@meetup.com
SEQUENCE:1
DTSTAMP:20260422T105010Z
DTSTART;TZID=America/New_York:20260504T190000
DTEND;TZID=America/New_York:20260504T210000
SUMMARY:Open Hac
DESCRIPTION:HacDC\nWelcome to our new home at the historic Tivoli Theater!
 \n\nPlease check our details for access to the space on [our website](http
 s://www.hacdc.org/visit/).\n\nJoin the discord for questions / help gettin
 g in (use channel #let-me-in) [https://discord.gg/dNjuNhNmeT](https://disc
 ord.gg/dNjuNhNmeT)
URL;VALUE=URI:https://www.meetup.com/hac-dc/events/314287227/
STATUS:CONFIRMED
CREATED:20260414T231954Z
LAST-MODIFIED:20260414T231954Z
CLASS:PUBLIC
END:VEVENT
BEGIN:VEVENT
UID:event_314341767@meetup.com
SEQUENCE:1
DTSTAMP:20260422T105010Z
DTSTART;TZID=America/New_York:20260507T190000
DTEND;TZID=America/New_York:20260507T210000
SUMMARY:Hardware Hacking Night
DESCRIPTION:HacDC\nWant to mess with some electronics? Or perhaps contribu
 te to HacDC's main group project?\nHacDC's latest event brings hardware pr
 ojects to the community. We will focus primarily on the main project (Spac
 e Blimp!) but please feel free to bring some of your own projects to show 
 off and work on!
URL;VALUE=URI:https://www.meetup.com/hac-dc/events/314341767/
STATUS:CONFIRMED
CREATED:20260417T233234Z
LAST-MODIFIED:20260417T233234Z
CLASS:PUBLIC
END:VEVENT
BEGIN:VEVENT
UID:event_314408127@meetup.com
SEQUENCE:1
DTSTAMP:20260422T105010Z
DTSTART;TZID=America/New_York:20260511T190000
DTEND;TZID=America/New_York:20260511T210000
SUMMARY:Open Hac
DESCRIPTION:HacDC\nWelcome to our new home at the historic Tivoli Theater!
 \n\nPlease check our details for access to the space on [our website](http
 s://www.hacdc.org/visit/).\n\nJoin the discord for questions / help gettin
 g in (use channel #let-me-in) [https://discord.gg/dNjuNhNmeT](https://disc
 ord.gg/dNjuNhNmeT)
URL;VALUE=URI:https://www.meetup.com/hac-dc/events/314408127/
STATUS:CONFIRMED
CREATED:20260421T232655Z
LAST-MODIFIED:20260421T232655Z
CLASS:PUBLIC
END:VEVENT
BEGIN:VEVENT
UID:event_szjzwtyjchbsb@meetup.com
SEQUENCE:1
DTSTAMP:20260422T105010Z
DTSTART;TZID=America/New_York:20260514T190000
DTEND;TZID=America/New_York:20260514T210000
SUMMARY:Hardware Hacking Night
DESCRIPTION:HacDC\nWant to mess with some electronics? Or perhaps contribu
 te to HacDC's main group project?\nHacDC's latest event brings hardware pr
 ojects to the community. We will focus primarily on the main project (Spac
 e Blimp!) but please feel free to bring some of your own projects to show 
 off and work on!
URL;VALUE=URI:https://www.meetup.com/hac-dc/events/szjzwtyjchbsb/
STATUS:CONFIRMED
CREATED:20260414T001244Z
LAST-MODIFIED:20260414T001244Z
CLASS:PUBLIC
END:VEVENT
BEGIN:VEVENT
UID:event_vwjzwtyjchbxb@meetup.com
SEQUENCE:1
DTSTAMP:20260422T105010Z
DTSTART;TZID=America/New_York:20260518T190000
DTEND;TZID=America/New_York:20260518T210000
SUMMARY:Open Hac
DESCRIPTION:HacDC\nWelcome to our new home at the historic Tivoli Theater!
 \n\nPlease check our details for access to the space on [our website](http
 s://www.hacdc.org/visit/).\n\nJoin the discord for questions / help gettin
 g in (use channel #let-me-in) [https://discord.gg/dNjuNhNmeT](https://disc
 ord.gg/dNjuNhNmeT)
URL;VALUE=URI:https://www.meetup.com/hac-dc/events/vwjzwtyjchbxb/
STATUS:CONFIRMED
CREATED:20260414T000149Z
LAST-MODIFIED:20260414T000149Z
CLASS:PUBLIC
END:VEVENT
BEGIN:VEVENT
UID:event_szjzwtyjchbcc@meetup.com
SEQUENCE:1
DTSTAMP:20260422T105010Z
DTSTART;TZID=America/New_York:20260521T190000
DTEND;TZID=America/New_York:20260521T210000
SUMMARY:Hardware Hacking Night
DESCRIPTION:HacDC\nWant to mess with some electronics? Or perhaps contribu
 te to HacDC's main group project?\nHacDC's latest event brings hardware pr
 ojects to the community. We will focus primarily on the main project (Spac
 e Blimp!) but please feel free to bring some of your own projects to show 
 off and work on!
URL;VALUE=URI:https://www.meetup.com/hac-dc/events/szjzwtyjchbcc/
STATUS:CONFIRMED
CREATED:20260414T001244Z
LAST-MODIFIED:20260414T001244Z
CLASS:PUBLIC
END:VEVENT
BEGIN:VEVENT
UID:event_vwjzwtyjchbhc@meetup.com
SEQUENCE:1
DTSTAMP:20260422T105010Z
DTSTART;TZID=America/New_York:20260525T190000
DTEND;TZID=America/New_York:20260525T210000
SUMMARY:Open Hac
DESCRIPTION:HacDC\nWelcome to our new home at the historic Tivoli Theater!
 \n\nPlease check our details for access to the space on [our website](http
 s://www.hacdc.org/visit/).\n\nJoin the discord for questions / help gettin
 g in (use channel #let-me-in) [https://discord.gg/dNjuNhNmeT](https://disc
 ord.gg/dNjuNhNmeT)
URL;VALUE=URI:https://www.meetup.com/hac-dc/events/vwjzwtyjchbhc/
STATUS:CONFIRMED
CREATED:20260414T000149Z
LAST-MODIFIED:20260414T000149Z
CLASS:PUBLIC
END:VEVENT
X-ORIGINAL-URL:https://www.meetup.com/hac-dc/events/ical/
X-WR-CALNAME:HacDC
END:VCALENDAR