BEGIN:VCALENDAR
VERSION:2.0
PRODID:-//Meetup//Meetup Calendar 1.0//EN
CALSCALE:GREGORIAN
METHOD:PUBLISH
NAME:Bologna JS Meetup
X-WR-CALNAME:Bologna JS Meetup
BEGIN:VTIMEZONE
TZID:Europe/Rome
TZURL:http://tzurl.org/zoneinfo-outlook/Europe/Rome
X-LIC-LOCATION:Europe/Rome
BEGIN:DAYLIGHT
TZOFFSETFROM:+0100
TZOFFSETTO:+0200
TZNAME:CEST
DTSTART:19700329T020000
RRULE:FREQ=YEARLY;BYMONTH=3;BYDAY=-1SU
END:DAYLIGHT
BEGIN:STANDARD
TZOFFSETFROM:+0200
TZOFFSETTO:+0100
TZNAME:CET
DTSTART:19701025T030000
RRULE:FREQ=YEARLY;BYMONTH=10;BYDAY=-1SU
END:STANDARD
END:VTIMEZONE
BEGIN:VEVENT
UID:event_314310959@meetup.com
SEQUENCE:1
DTSTAMP:20260421T183552Z
DTSTART;TZID=Europe/Rome:20260422T184500
DTEND;TZID=Europe/Rome:20260422T204500
SUMMARY:Engineering as Containment
DESCRIPTION:Bologna JS Meetup\nEccoci col nostro appuntamento di aprile!\n
 \nIn questo evento parleremo di LMM e di come "cercare" di contenerli.\nGi
 useppe Minnella\, engineer di Deutsche Bank\, ci darà dei consigli per no
 n finire "in mutande in produzione".\n\n**Programma:**\n\nOre 18:30: **Acc
 oglienza** e chiacchiere\n\nOra 19:00: **Giuseppe Minnella:** "Engineering
  as Containment\, dal sorpresismo al nascondismo: consigli pratici per non
  finire con un Mutandari in produzione."\n\nOre 20:30: **Cena**\n\n**Descr
 izione:** "Engineering as Containment\, dal sorpresismo al nascondismo: co
 nsigli pratici per non finire con un Mutandari in produzione."\n\nAnche gl
 i LLM allo stato dell’arte tendono a deragliare in modo sottile: piccole
  deviazioni\, assunzioni implicite\, scorciatoie plausibili. In processi d
 i sviluppo complessi\, questi scarti si accumulano e diventano problemi se
 ri.\n\nIn questo talk mostrerò esempi concreti di questo drift e discuter
 ò tecniche semplici ma efficaci per contenerlo: più struttura\, vincoli 
 chiari\, controllo dei passaggi intermedi e meno autonomia dove non serve.
 \n\n**Giuseppe Minnella** **bio**: "Programmo dai tempi dei table layout. 
 Oggi sono senior engineer e line manager in Deutsche Bank\, con formazione
  full stack e una discreta confidenza con il caos."\n\n**Nota per l'access
 o:**\nEntrate nel portone di via della Zecca 1\, niente paura\, il portier
 e potrebbe non essere aggiornato\, tirate dritto.\nSalite al primo piano\,
  superate il piano ammezzato\, girate a sinistra.\nIn fondo sulla destra t
 roverete una porta a vetri\, suonate se non e' aperta e siete arrivati!\nS
 pazio01 si trova proprio sopra il negozio Muji di via Ugo Bassi\, anche se
  si entra dalla strada laterale\, via della Zecca!\nIn macchina dovete par
 cheggiare fuori dalla ZTL\, attenzione!
URL;VALUE=URI:https://www.meetup.com/bologna-js-meetup/events/314310959/
STATUS:CONFIRMED
CREATED:20260416T094837Z
LAST-MODIFIED:20260416T094837Z
CLASS:PUBLIC
END:VEVENT
X-ORIGINAL-URL:https://www.meetup.com/Bologna-JS-Meetup/events/ical/
X-WR-CALNAME:Bologna JS Meetup
END:VCALENDAR