BEGIN:VCALENDAR
VERSION:2.0
PRODID:-//Meetup//Meetup Calendar 1.0//EN
CALSCALE:GREGORIAN
METHOD:PUBLISH
NAME:PNW Software Quality Professionals (PNSQC)
X-WR-CALNAME:PNW Software Quality Professionals (PNSQC)
BEGIN:VTIMEZONE
TZID:America/Los_Angeles
TZURL:http://tzurl.org/zoneinfo-outlook/America/Los_Angeles
X-LIC-LOCATION:America/Los_Angeles
BEGIN:DAYLIGHT
TZOFFSETFROM:-0800
TZOFFSETTO:-0700
TZNAME:PDT
DTSTART:19700308T020000
RRULE:FREQ=YEARLY;BYMONTH=3;BYDAY=2SU
END:DAYLIGHT
BEGIN:STANDARD
TZOFFSETFROM:-0700
TZOFFSETTO:-0800
TZNAME:PST
DTSTART:19701101T020000
RRULE:FREQ=YEARLY;BYMONTH=11;BYDAY=1SU
END:STANDARD
END:VTIMEZONE
BEGIN:VEVENT
UID:event_313839680@meetup.com
SEQUENCE:1
DTSTAMP:20260421T233155Z
DTSTART;TZID=America/Los_Angeles:20260422T180000
DTEND;TZID=America/Los_Angeles:20260422T200000
SUMMARY:AI-Augmented Manual Testing with PLUS QA
DESCRIPTION:PNW Software Quality Professionals (PNSQC)\nJoin us for our Ap
 ril meetup\, presented and hosted by **[PLUS QA](https://plusqa.com)** in 
 Southeast Portland!\n‎ ‎\nThis month\, PLUS QA's own **VP** **[Ryan Wi
 lder](https://www.linkedin.com/in/ryan-wilder-824812137/)** and **Lead Dev
 ** **[Gianni Zamora](https://www.linkedin.com/in/gianni-zamora-9203abaa/)*
 * walk us through how they're building AI solutions that work within their
  well-practiced manual testing strategies.\n‎ ‎\nThrough a live demo a
 nd discussion\, you'll see how PLUS QA tackled this challenge by embedding
  AI capabilities into their existing tools and in-house software\, fine-tu
 ning results and workflows to fit the way their teams already worked. Stri
 king the right balance of custom AI tooling amplified the natural strength
  of manual testing\, seamlessly boosting the daily tasks accomplished by p
 roject leads and testers without the burden of adopting yet another outsid
 e tool.\n‎\nIt's a practical\, human-centered take on AI in QA\, expandi
 ng what manual testers can do while emphasizing the high-quality human exp
 ertise that great testing demands.\n‎‎\nThis will be a **hybrid meetup
 **\, so mingle in person or tune in online. Doors (and virtual lobby) open
  at 6 pm for a half hour of pre-talk networking.\n‎‎\nSchedule:\n\n* *
 *6:00 - 6:30pm** Networking (online included)\n* **6:30 - 8:00pm** AI-Augm
 ented Manual Testing: Demo & Discussion with PLUS QA
URL;VALUE=URI:https://www.meetup.com/pnw-software-quality-professionals-pn
 sqc/events/313839680/
STATUS:CONFIRMED
CREATED:20260318T212842Z
LAST-MODIFIED:20260318T212842Z
CLASS:PUBLIC
END:VEVENT
X-ORIGINAL-URL:https://www.meetup.com/pnw-software-quality-professionals-p
 nsqc/events/ical/
X-WR-CALNAME:PNW Software Quality Professionals (PNSQC)
END:VCALENDAR