BEGIN:VCALENDAR
VERSION:2.0
PRODID:-//Meetup//Meetup Calendar 1.0//EN
CALSCALE:GREGORIAN
METHOD:PUBLISH
NAME:Portland Atlassian Meetup Group (ACE)
X-WR-CALNAME:Portland Atlassian Meetup Group (ACE)
BEGIN:VTIMEZONE
TZID:America/Los_Angeles
TZURL:http://tzurl.org/zoneinfo-outlook/America/Los_Angeles
X-LIC-LOCATION:America/Los_Angeles
BEGIN:DAYLIGHT
TZOFFSETFROM:-0800
TZOFFSETTO:-0700
TZNAME:PDT
DTSTART:19700308T020000
RRULE:FREQ=YEARLY;BYMONTH=3;BYDAY=2SU
END:DAYLIGHT
BEGIN:STANDARD
TZOFFSETFROM:-0700
TZOFFSETTO:-0800
TZNAME:PST
DTSTART:19701101T020000
RRULE:FREQ=YEARLY;BYMONTH=11;BYDAY=1SU
END:STANDARD
END:VTIMEZONE
BEGIN:VEVENT
UID:event_313833293@meetup.com
SEQUENCE:1
DTSTAMP:20260420T085110Z
DTSTART;TZID=America/Los_Angeles:20260422T090000
DTEND;TZID=America/Los_Angeles:20260422T100000
SUMMARY:Practical Guide for Leaner Confluence Content Creation
DESCRIPTION:Portland Atlassian Meetup Group (ACE)\nDoes creating content i
 n Confluence still feel slower than it should?\n\nIn this session\, we'll 
 focus on the features that actually save you time - from writing and forma
 tting to reviews and admin.\n\nYou'll leave with a clear\, practical toolk
 it you can start using the very next day.\n\nSuitable for Confluence users
  of all levels.\n\nAgenda\n\n---\n\nSpeaker\n\nZoriana Bogutska - Adaptavi
 st (Senior Product Marketing Manager)\n\nModerator\n\nDean Schaffer - Adap
 tavist (Principal Technical Consultant)\n\nDean is a Principal Technical C
 onsultant who helps clients conceive\, implement\, and customize the Atlas
 sian stack for maximum effectiveness. Dean has been working in the IT indu
 stry for 30 years and has done a little bit of everything: from Active Dir
 ectory admin\, Operations management for a team of DBA's and developers\, 
 Telephony\, training\, Scrum Mastering and consulting. Dean is a firm beli
 e…\n\nHosted By\n\nDean Schaffer\, Principal Technical Consultant\n\nI h
 ave been in the IT industry for over 28 years doing everything from suppor
 t to training\, consulting and management. I love working with people to f
 ind optimum solutions for better ways of working. My favorite expression i
 s "Work Smarter\, not Harder". I love travel\, food and wine (but...who do
 esn't?).\n\n---\n\nGlobal Partner\n\nAtlassian (http://atlassian.com)\nMil
 lions of users globally rely on Atlassian products every day for improving
  software development\, project management\, collaboration\, and code qual
 ity.\n\nFor over a decade\, Atlassian customers have come together to netw
 ork\, share ideas\, solve problems\, and find new ways to use Atlassian pr
 oducts. Today\, more than 15\,000 people take part in Atlassian community 
 events in more than 30 countries.\n---\n\nComplete your event RSVP here: h
 ttps://ace.atlassian.com/events/details/atlassian-portland-presents-practi
 cal-guide-for-leaner-confluence-content-creation/.
URL;VALUE=URI:https://www.meetup.com/portland-atlassian-meetup-group-ace/e
 vents/313833293/
STATUS:CONFIRMED
CREATED:20260318T134512Z
LAST-MODIFIED:20260318T134512Z
CLASS:PUBLIC
END:VEVENT
X-ORIGINAL-URL:https://www.meetup.com/portland-atlassian-meetup-group-ace/
 events/ical/
X-WR-CALNAME:Portland Atlassian Meetup Group (ACE)
END:VCALENDAR