BEGIN:VCALENDAR
VERSION:2.0
PRODID:-//Meetup//Meetup Calendar 1.0//EN
CALSCALE:GREGORIAN
METHOD:PUBLISH
NAME:Portland Cyber Security for Control Systems
X-WR-CALNAME:Portland Cyber Security for Control Systems
BEGIN:VTIMEZONE
TZID:America/Los_Angeles
TZURL:http://tzurl.org/zoneinfo-outlook/America/Los_Angeles
X-LIC-LOCATION:America/Los_Angeles
BEGIN:DAYLIGHT
TZOFFSETFROM:-0800
TZOFFSETTO:-0700
TZNAME:PDT
DTSTART:19700308T020000
RRULE:FREQ=YEARLY;BYMONTH=3;BYDAY=2SU
END:DAYLIGHT
BEGIN:STANDARD
TZOFFSETFROM:-0700
TZOFFSETTO:-0800
TZNAME:PST
DTSTART:19701101T020000
RRULE:FREQ=YEARLY;BYMONTH=11;BYDAY=1SU
END:STANDARD
END:VTIMEZONE
BEGIN:VEVENT
UID:event_313734718@meetup.com
SEQUENCE:1
DTSTAMP:20260421T190822Z
DTSTART;TZID=America/Los_Angeles:20260420T060000
DTEND;TZID=America/Los_Angeles:20260422T120000
SUMMARY:Level Zero OT Cyber Security Conference
DESCRIPTION:Portland Cyber Security for Control Systems\nMeetup Members ge
 t 10% off!\nUse code: **LZMEETUP10**\nAtlanta\, GA April 20 - 22\n[www.Lev
 elZeroConference.com](https://levelzeroconference.com/)\n\n## **Attend The
  Level Zero Conference**\n\nThe Level Zero Conference brings experts from 
 across industries together to address the complex challenges of securing o
 perational technology. Our multidisciplinary approach integrates engineeri
 ng\, cyber security\, and risk management to safeguard critical infrastruc
 ture from level zero to the cloud.\n\n**Level Zero is designed for profess
 ionals responsible for the complex task of protecting their critical infra
 structure from catastrophic failures.**\n\n**Why Attend Level Zero?**\n\n#
 ### ***Bridge the IT-OT Divide***\n\nGain insights from both IT and OT per
 spectives to develop comprehensive security strategies\n\n#### ***Expert-L
 ed Sessions***\n\nLearn from 60+ first hand authorities on OT threats\, de
 fenses\, and compliance\n\n#### ***Hands-On Experience***\n\nParticipate i
 n the ICS Village\, tabletop exercises\, and interactive workshops\n\n## *
 *Level Zero Delivers.**\n\nIT and OT have traditionally operated in silos\
 , with each team lacking a critical understanding of the other. The Level 
 Zero Conference bridges this divide by bringing together experts from OT a
 nd IT – engineering\, operations\, and cyber security.\nFostering collab
 oration and cross-disciplinary understanding are both essential for the pr
 otection of critical infrastructure. Through the exchange of ideas and exp
 ertise\, Level Zero empowers professionals from different domains to devel
 op a deeper understanding of both IT and OT environments enabling the crea
 tion of infrastructure that is integrated and resilient to evolving threat
 s.\n\n## **Who Should Attend?**\n\n**Level Zero Conference is for individu
 als responsible for building\, maintaining\, and defending ICS/OT environm
 ents:**\n\n#### **Engineers**\n\nresponsible for addressing cyber threats 
 to physical operations\, looking for effective ways to improve the maturit
 y of their security program.\n\n#### **Executives**\n\nmanaging cyber secu
 rity budgets and physical operations\, wanting to better understand real t
 hreats and ways to build a successful cyber security program.\n\n#### **Ex
 perts**\n\nwanting to learn from other experts and catch up with each othe
 r.\n\n#### **Practitioners**\n\nneeding contact with peers facing similar 
 challenges and wanting to learn from experts.\n\n#### **Compliance manager
 s**\n\nlooking to reduce risks and lower costs.\n\n#### **Enterprise secur
 ity**\n\nresponsible for securing physical operations\, wanting to get mor
 e insights into the threats of the cyber world.\n![](https://levelzeroconf
 erence.com/wp-content/uploads/2024/10/it-ot-workers-1000x1000.webp)\n\n## 
 **Be Part of Securing Our Critical Infrastructure**\n\nLevel Zero Conferen
 ce is where the future of OT cyber security is shaped. Don’t miss this o
 pportunity to contribute to and learn from the industry’s leading minds.
 \n\n#### **Venue**\n\n***\n\n##### Georgia Tech Exhibition Hall\n\nPhysica
 l Address (for walking to facility)\n460 Fourth St. N.W. Atlanta\, GA 3033
 2\n\nHosted by: Control System Cyber Security Association Internatioal
URL;VALUE=URI:https://www.meetup.com/portland-cyber-security-for-control-s
 ystems/events/313734718/
STATUS:CONFIRMED
CREATED:20260310T230525Z
LAST-MODIFIED:20260310T230525Z
CLASS:PUBLIC
END:VEVENT
X-ORIGINAL-URL:https://www.meetup.com/Portland-Cyber-Security-for-Control-
 Systems/events/ical/
X-WR-CALNAME:Portland Cyber Security for Control Systems
END:VCALENDAR