BEGIN:VCALENDAR
VERSION:2.0
PRODID:-//Meetup//Meetup Calendar 1.0//EN
CALSCALE:GREGORIAN
METHOD:PUBLISH
NAME:Portland Fabric User Group
X-WR-CALNAME:Portland Fabric User Group
BEGIN:VTIMEZONE
TZID:America/Los_Angeles
TZURL:http://tzurl.org/zoneinfo-outlook/America/Los_Angeles
X-LIC-LOCATION:America/Los_Angeles
BEGIN:DAYLIGHT
TZOFFSETFROM:-0800
TZOFFSETTO:-0700
TZNAME:PDT
DTSTART:19700308T020000
RRULE:FREQ=YEARLY;BYMONTH=3;BYDAY=2SU
END:DAYLIGHT
BEGIN:STANDARD
TZOFFSETFROM:-0700
TZOFFSETTO:-0800
TZNAME:PST
DTSTART:19701101T020000
RRULE:FREQ=YEARLY;BYMONTH=11;BYDAY=1SU
END:STANDARD
END:VTIMEZONE
BEGIN:VEVENT
UID:event_312615067@meetup.com
SEQUENCE:1
DTSTAMP:20260420T142217Z
DTSTART;TZID=America/Los_Angeles:20260422T173000
DTEND;TZID=America/Los_Angeles:20260422T190000
SUMMARY:Fabric Data Agent Best Practices
DESCRIPTION:Portland Fabric User Group\nThe Fabric Data Agent is a convers
 ational AI for enterprise data in OneLake. In this session\, Sandeep will 
 walk through the Data Agent architecture and explain how to configure Data
  Agents for accuracy and reliability. The session also includes practical 
 tips for effectively using the Data Agent.
URL;VALUE=URI:https://www.meetup.com/portland-fabric-power-bi-user-group/e
 vents/312615067/
STATUS:CONFIRMED
CREATED:20251228T223044Z
LAST-MODIFIED:20251228T223044Z
CLASS:PUBLIC
END:VEVENT
BEGIN:VEVENT
UID:event_312545143@meetup.com
SEQUENCE:1
DTSTAMP:20260420T142217Z
DTSTART;TZID=America/Los_Angeles:20260423T173000
DTEND;TZID=America/Los_Angeles:20260423T190000
SUMMARY:Government Edition Meetup
DESCRIPTION:Portland Fabric User Group\n**Development of Semantic Models f
 or Self-Service and AI**\n\nThis session covers how to design semantic mod
 els that support self-service analytics and AI use cases. I will share Ore
 gon State University’s journey migrating to a new data platform and key 
 lessons learned along the way. The talk focuses on practical design patter
 ns\, including the use of Medallion Architecture and Direct Lake semantic 
 models\, to build scalable and trusted semantic models. We will also highl
 ight how good metadata and clear model descriptions enable better AI adopt
 ion and future automation.
URL;VALUE=URI:https://www.meetup.com/portland-fabric-power-bi-user-group/e
 vents/312545143/
STATUS:CONFIRMED
CREATED:20251223T000658Z
LAST-MODIFIED:20251223T000658Z
CLASS:PUBLIC
END:VEVENT
BEGIN:VEVENT
UID:event_312615100@meetup.com
SEQUENCE:1
DTSTAMP:20260420T142217Z
DTSTART;TZID=America/Los_Angeles:20260527T173000
DTEND;TZID=America/Los_Angeles:20260527T190000
SUMMARY:Power BI Best Practices: The Developer's Checklist
DESCRIPTION:Portland Fabric User Group\nThis presentation walks Power BI d
 evelopers through the professional habits and conventions that make report
 s more maintainable\, usable\, and polished. We cover three areas: writing
  and organizing clean DAX measures\, structuring the data model for discov
 erability and documentation\, and applying disciplined report design pract
 ices around layout\, visual headers\, and interactivity.
URL;VALUE=URI:https://www.meetup.com/portland-fabric-power-bi-user-group/e
 vents/312615100/
STATUS:CONFIRMED
CREATED:20251228T223409Z
LAST-MODIFIED:20251228T223409Z
CLASS:PUBLIC
END:VEVENT
BEGIN:VEVENT
UID:event_312615160@meetup.com
SEQUENCE:1
DTSTAMP:20260420T142217Z
DTSTART;TZID=America/Los_Angeles:20260826T173000
DTEND;TZID=America/Los_Angeles:20260826T190000
SUMMARY:Virtual Meetup TBD
DESCRIPTION:Portland Fabric User Group\nTBD
URL;VALUE=URI:https://www.meetup.com/portland-fabric-power-bi-user-group/e
 vents/312615160/
STATUS:CONFIRMED
CREATED:20251228T224130Z
LAST-MODIFIED:20251228T224130Z
CLASS:PUBLIC
END:VEVENT
BEGIN:VEVENT
UID:event_312615195@meetup.com
SEQUENCE:1
DTSTAMP:20260420T142217Z
DTSTART;TZID=America/Los_Angeles:20260923T173000
DTEND;TZID=America/Los_Angeles:20260923T190000
SUMMARY:Virtual Meetup TBD
DESCRIPTION:Portland Fabric User Group\nTBD
URL;VALUE=URI:https://www.meetup.com/portland-fabric-power-bi-user-group/e
 vents/312615195/
STATUS:CONFIRMED
CREATED:20251228T224637Z
LAST-MODIFIED:20251228T224637Z
CLASS:PUBLIC
END:VEVENT
BEGIN:VEVENT
UID:event_312615205@meetup.com
SEQUENCE:1
DTSTAMP:20260420T142217Z
DTSTART;TZID=America/Los_Angeles:20261028T173000
DTEND;TZID=America/Los_Angeles:20261028T190000
SUMMARY:Virtual Meetup TBD
DESCRIPTION:Portland Fabric User Group\nTBD
URL;VALUE=URI:https://www.meetup.com/portland-fabric-power-bi-user-group/e
 vents/312615205/
STATUS:CONFIRMED
CREATED:20251228T224856Z
LAST-MODIFIED:20251228T224856Z
CLASS:PUBLIC
END:VEVENT
BEGIN:VEVENT
UID:event_312534290@meetup.com
SEQUENCE:1
DTSTAMP:20260420T142217Z
DTSTART;TZID=America/Los_Angeles:20261104T173000
DTEND;TZID=America/Los_Angeles:20261104T190000
SUMMARY:Government Edition Meetup
DESCRIPTION:Portland Fabric User Group\nTBD
URL;VALUE=URI:https://www.meetup.com/portland-fabric-power-bi-user-group/e
 vents/312534290/
STATUS:CONFIRMED
CREATED:20251222T045504Z
LAST-MODIFIED:20251222T045504Z
CLASS:PUBLIC
END:VEVENT
X-ORIGINAL-URL:https://www.meetup.com/portland-fabric-power-bi-user-group/
 events/ical/
X-WR-CALNAME:Portland Fabric User Group
END:VCALENDAR