BEGIN:VCALENDAR
VERSION:2.0
PRODID:-//Meetup//Meetup Calendar 1.0//EN
CALSCALE:GREGORIAN
METHOD:PUBLISH
NAME:Portland Tech Leadership Meetup
X-WR-CALNAME:Portland Tech Leadership Meetup
BEGIN:VTIMEZONE
TZID:America/Los_Angeles
TZURL:http://tzurl.org/zoneinfo-outlook/America/Los_Angeles
X-LIC-LOCATION:America/Los_Angeles
BEGIN:DAYLIGHT
TZOFFSETFROM:-0800
TZOFFSETTO:-0700
TZNAME:PDT
DTSTART:19700308T020000
RRULE:FREQ=YEARLY;BYMONTH=3;BYDAY=2SU
END:DAYLIGHT
BEGIN:STANDARD
TZOFFSETFROM:-0700
TZOFFSETTO:-0800
TZNAME:PST
DTSTART:19701101T020000
RRULE:FREQ=YEARLY;BYMONTH=11;BYDAY=1SU
END:STANDARD
END:VTIMEZONE
BEGIN:VEVENT
UID:event_311433408@meetup.com
SEQUENCE:1
DTSTAMP:20260419T141219Z
DTSTART;TZID=America/Los_Angeles:20260421T173000
DTEND;TZID=America/Los_Angeles:20260421T193000
SUMMARY:AI! But Why?
DESCRIPTION:Portland Tech Leadership Meetup\nA skeptical\, hands-on roundt
 able: where does AI actually create margin\, speed\, or quality—and wher
 e is it just theatre? We’ll dissect real use cases\, hidden costs (data\
 , evals\, change mgmt)\, and how to prove value beyond a shiny demo. Leave
  with a sniff test and a week-one experiment.\n\nLight food and drink will
  be provided.
URL;VALUE=URI:https://www.meetup.com/portland-tech-leadership-meetup/event
 s/311433408/
STATUS:CONFIRMED
CREATED:20251008T023527Z
LAST-MODIFIED:20251008T023527Z
CLASS:PUBLIC
END:VEVENT
BEGIN:VEVENT
UID:event_311433454@meetup.com
SEQUENCE:1
DTSTAMP:20260419T141219Z
DTSTART;TZID=America/Los_Angeles:20260519T170300
DTEND;TZID=America/Los_Angeles:20260519T190300
SUMMARY:Boss Mode Activated: Gamifying Your Teams Success
DESCRIPTION:Portland Tech Leadership Meetup\nBoss mode\, minus the cringe:
  we’ll map scoreboards to real outcomes\, craft weekly “quests” that
  ship value\, and use loot (recognition\, learning\, autonomy) that people
  actually want. Bring a team goal\; leave with a lightweight game loop you
  can run Monday.\n\nLight food and drink will be provided.
URL;VALUE=URI:https://www.meetup.com/portland-tech-leadership-meetup/event
 s/311433454/
STATUS:CONFIRMED
CREATED:20251008T024208Z
LAST-MODIFIED:20251008T024208Z
CLASS:PUBLIC
END:VEVENT
BEGIN:VEVENT
UID:event_311433462@meetup.com
SEQUENCE:1
DTSTAMP:20260419T141219Z
DTSTART;TZID=America/Los_Angeles:20260616T173000
DTEND;TZID=America/Los_Angeles:20260616T193000
SUMMARY:Cut the Crap. Multiply the Impact.
DESCRIPTION:Portland Tech Leadership Meetup\nStop optimizing busywork\; st
 art compounding outcomes. We’ll tear down bloated rituals\, pick can’t
 -game metrics\, and design lightweight loops that convert focus into throu
 ghput without burning trust or weekends.\n\nLight food and drink will be p
 rovided.
URL;VALUE=URI:https://www.meetup.com/portland-tech-leadership-meetup/event
 s/311433462/
STATUS:CONFIRMED
CREATED:20251008T024337Z
LAST-MODIFIED:20251008T024337Z
CLASS:PUBLIC
END:VEVENT
X-ORIGINAL-URL:https://www.meetup.com/Portland-Tech-Leadership-Meetup/even
 ts/ical/
X-WR-CALNAME:Portland Tech Leadership Meetup
END:VCALENDAR