BEGIN:VCALENDAR
VERSION:2.0
PRODID:-//Meetup//Meetup Calendar 1.0//EN
CALSCALE:GREGORIAN
METHOD:PUBLISH
NAME:Women In Product PDX
X-WR-CALNAME:Women In Product PDX
BEGIN:VTIMEZONE
TZID:America/Los_Angeles
TZURL:http://tzurl.org/zoneinfo-outlook/America/Los_Angeles
X-LIC-LOCATION:America/Los_Angeles
BEGIN:DAYLIGHT
TZOFFSETFROM:-0800
TZOFFSETTO:-0700
TZNAME:PDT
DTSTART:19700308T020000
RRULE:FREQ=YEARLY;BYMONTH=3;BYDAY=2SU
END:DAYLIGHT
BEGIN:STANDARD
TZOFFSETFROM:-0700
TZOFFSETTO:-0800
TZNAME:PST
DTSTART:19701101T020000
RRULE:FREQ=YEARLY;BYMONTH=11;BYDAY=1SU
END:STANDARD
END:VTIMEZONE
BEGIN:VEVENT
UID:event_314196315@meetup.com
SEQUENCE:1
DTSTAMP:20260420T191620Z
DTSTART;TZID=America/Los_Angeles:20260420T163000
DTEND;TZID=America/Los_Angeles:20260420T183000
SUMMARY:Women In Product PDX: April 20 meetup
DESCRIPTION:Women In Product PDX\nJoin us for our next Women In Product PD
 X meetup on April 20 to check in and compare notes about job searches\, ne
 w jobs and side hustles.\n\nFor those that haven't joined us yet\, this is
  an interactive space where professional product and product-adjacent wome
 n in the software technology industry can learn about the latest trends in
  product design\, user experience\, and new technologies (AI\, mostly).\n\
 nWhether you are a seasoned product manager or just starting in the indust
 ry\, you're welcome to join us!
URL;VALUE=URI:https://www.meetup.com/women-in-product-wip/events/314196315
 /
STATUS:CONFIRMED
CREATED:20260409T131444Z
LAST-MODIFIED:20260409T131444Z
CLASS:PUBLIC
END:VEVENT
X-ORIGINAL-URL:https://www.meetup.com/Women-In-Product-WIP/events/ical/
X-WR-CALNAME:Women In Product PDX
END:VCALENDAR